﻿﻿BEGIN:VCALENDAR252
BEGIN:VEVENT
UID:soutez-252@www.firesport.eu
DTSTAMP:20260420T035500Z
DESCRIPTION:Odkaz: https://www.firesport.eu/soutez-klatovy-i-2009-08-15-252.html 
DTSTART:20090815T130000
DTEND:20090815T170000
LOCATION:ToÄŤnĂ­k (KT)
SUMMARY:O pohĂˇr starosty mÄ›sta Klatovy
URL:https://www.firesport.eu/soutez-klatovy-i-2009-08-15-252.html
END:VEVENT
END:VCALENDAR